BEGIN:VCALENDAR
VERSION:2.0
PRODID:-//Centro Mater Divinae Gratiae - ECPv4.9.4//NONSGML v1.0//EN
CALSCALE:GREGORIAN
METHOD:PUBLISH
X-WR-CALNAME:Centro Mater Divinae Gratiae
X-ORIGINAL-URL:https://www.materdivinaegratiae.it
X-WR-CALDESC:Eventi per Centro Mater Divinae Gratiae
BEGIN:VTIMEZONE
TZID:"Europe/Rome"
BEGIN:DAYLIGHT
TZOFFSETFROM:+0100
TZOFFSETTO:+0200
TZNAME:CEST
DTSTART:20190331T010000
END:DAYLIGHT
BEGIN:STANDARD
TZOFFSETFROM:+0200
TZOFFSETTO:+0100
TZNAME:CET
DTSTART:20191027T010000
END:STANDARD
END:VTIMEZONE
BEGIN:VEVENT
DTSTART;TZID="Europe/Rome":20191214T210000
DTEND;TZID="Europe/Rome":20191214T220000
DTSTAMP:20260422T061930
CREATED:20190917T170511Z
LAST-MODIFIED:20190926T164327Z
UID:2847-1576357200-1576360800@www.materdivinaegratiae.it
SUMMARY:Incontro di preghiera nello stile di Taizé
DESCRIPTION:  \nInsieme “per lodare e benedire e cantare il Cristo Signore” \n(dalla Regola di Taizé) \n  \n  \nPromosso ed animato dal gruppo Amici di Taizé di Brescia \n  \nscarica il depliant specifico \n
URL:https://www.materdivinaegratiae.it/evento/taize-3-2/
LOCATION:Centro Mater Divinae Gratiae\, Via Sant'Emiliano 30\, Brescia\, BS\, 25127\, Italia
CATEGORIES:Spiritualità
ATTACH;FMTTYPE=image/jpeg:https://www.materdivinaegratiae.it/wp-content/uploads/2019/08/taize.jpg
END:VEVENT
END:VCALENDAR