BEGIN:VCALENDAR
VERSION:2.0
PRODID:-//Centro Mater Divinae Gratiae - ECPv4.9.4//NONSGML v1.0//EN
CALSCALE:GREGORIAN
METHOD:PUBLISH
X-WR-CALNAME:Centro Mater Divinae Gratiae
X-ORIGINAL-URL:https://www.materdivinaegratiae.it
X-WR-CALDESC:Eventi per Centro Mater Divinae Gratiae
BEGIN:VTIMEZONE
TZID:"Europe/Rome"
BEGIN:DAYLIGHT
TZOFFSETFROM:+0100
TZOFFSETTO:+0200
TZNAME:CEST
DTSTART:20200329T010000
END:DAYLIGHT
BEGIN:STANDARD
TZOFFSETFROM:+0200
TZOFFSETTO:+0100
TZNAME:CET
DTSTART:20201025T010000
END:STANDARD
END:VTIMEZONE
BEGIN:VEVENT
DTSTART;TZID="Europe/Rome":20200222T150000
DTEND;TZID="Europe/Rome":20200222T180000
DTSTAMP:20260421T192801
CREATED:20191126T193748Z
LAST-MODIFIED:20191126T193748Z
UID:3204-1582383600-1582394400@www.materdivinaegratiae.it
SUMMARY:Madri & figlie
DESCRIPTION:(1° incontro) \n  \nPer aprire il dialogo tra madre e figlia nel tempo prezioso del cambiamento puberale. \n  \nLa proposta è rivolta a ragazze di 10-12 anni\, accompagnate dalle loro madri\, per un massimo di 10 coppie. \n  \nConduce: \nDott.ssa Silvia Gamba\, biologa\, insegnante INER\, formatrice di educatori alla sessualità\, animatrice dei corsi Mamma & Figlia (www.silviagambaeduca.it) \n  \n  \n
URL:https://www.materdivinaegratiae.it/evento/madri-figlie/
LOCATION:Centro Mater Divinae Gratiae\, Via Sant'Emiliano 30\, Brescia\, BS\, 25127\, Italia
CATEGORIES:Formazione
ATTACH;FMTTYPE=image/jpeg:https://www.materdivinaegratiae.it/wp-content/uploads/2019/08/madri-figlie.jpg
END:VEVENT
END:VCALENDAR