BEGIN:VCALENDAR
VERSION:2.0
PRODID:-//Centro Mater Divinae Gratiae - ECPv4.9.4//NONSGML v1.0//EN
CALSCALE:GREGORIAN
METHOD:PUBLISH
X-WR-CALNAME:Centro Mater Divinae Gratiae
X-ORIGINAL-URL:https://www.materdivinaegratiae.it
X-WR-CALDESC:Eventi per Centro Mater Divinae Gratiae
BEGIN:VTIMEZONE
TZID:"Europe/Rome"
BEGIN:DAYLIGHT
TZOFFSETFROM:+0100
TZOFFSETTO:+0200
TZNAME:CEST
DTSTART:20200329T010000
END:DAYLIGHT
BEGIN:STANDARD
TZOFFSETFROM:+0200
TZOFFSETTO:+0100
TZNAME:CET
DTSTART:20201025T010000
END:STANDARD
END:VTIMEZONE
BEGIN:VEVENT
DTSTART;TZID="Europe/Rome":20200308T080000
DTEND;TZID="Europe/Rome":20200403T170000
DTSTAMP:20260421T210029
CREATED:20200309T141514Z
LAST-MODIFIED:20200309T205847Z
UID:3660-1583654400-1585933200@www.materdivinaegratiae.it
SUMMARY:EVENTI ANNULLATI
DESCRIPTION:  \nA causa dell’emergenza sanitaria in corso e secondo quanto prescritto dal nuovo Decreto Ministeriale dell’8 marzo 2020\, vi informiamo che tutti gli appuntamenti in calendario fino al 3 aprile 2020 sono stati annullati ad eccezione della Lettura integrale del Vangelo secondo Matteo (vedi evento). \n  \nFaremo il possibile per cercare date alternative e recuperare le iniziative annullate. \n  \nSentiamoci uniti con la preghiera per affrontare con fiducia e speranza cristiana questo tempo di prova. \n  \n  \n  \n
URL:https://www.materdivinaegratiae.it/evento/eventi-annullati/
LOCATION:Centro Mater Divinae Gratiae\, Via Sant'Emiliano 30\, Brescia\, BS\, 25127\, Italia
ATTACH;FMTTYPE=image/jpeg:https://www.materdivinaegratiae.it/wp-content/uploads/2020/03/eventi-annullati1.jpg
END:VEVENT
END:VCALENDAR