BEGIN:VCALENDAR
VERSION:2.0
PRODID:-//Centro Mater Divinae Gratiae - ECPv4.9.4//NONSGML v1.0//EN
CALSCALE:GREGORIAN
METHOD:PUBLISH
X-WR-CALNAME:Centro Mater Divinae Gratiae
X-ORIGINAL-URL:https://www.materdivinaegratiae.it
X-WR-CALDESC:Eventi per Centro Mater Divinae Gratiae
BEGIN:VTIMEZONE
TZID:"Europe/Rome"
BEGIN:DAYLIGHT
TZOFFSETFROM:+0100
TZOFFSETTO:+0200
TZNAME:CEST
DTSTART:20190331T010000
END:DAYLIGHT
BEGIN:STANDARD
TZOFFSETFROM:+0200
TZOFFSETTO:+0100
TZNAME:CET
DTSTART:20191027T010000
END:STANDARD
BEGIN:DAYLIGHT
TZOFFSETFROM:+0100
TZOFFSETTO:+0200
TZNAME:CEST
DTSTART:20200329T010000
END:DAYLIGHT
BEGIN:STANDARD
TZOFFSETFROM:+0200
TZOFFSETTO:+0100
TZNAME:CET
DTSTART:20201025T010000
END:STANDARD
END:VTIMEZONE
BEGIN:VEVENT
DTSTART;TZID="Europe/Rome":20191201T173000
DTEND;TZID="Europe/Rome":20200112T180000
DTSTAMP:20260422T000440
CREATED:20190905T205537Z
LAST-MODIFIED:20200113T082745Z
UID:2631-1575221400-1578852000@www.materdivinaegratiae.it
SUMMARY:Adeste Fideles
DESCRIPTION:Esposizione di arte contemporanea di LINO SANZENI \n  \nin collaborazione con \nl’Associazione per l’Arte “Le Stelle” \n  \n  \n  \nINAUGURAZIONE: \nDomenica 1 dicembre 2019 – ore 17.30 \n  \nAdeste fideles: l’invito angelico all’umanità semplice\, accolto con stupore e adesione\, viene interpretato non con opere progettate appositamente ma semplicemente attraverso una scelta dalla ricca produzione dell’artista\, facendo leva sulla spiritualità insita nella natura stessa del suo lavoro\, capace di trasformare pesanti blocchi di pietra in voli angelici  di straordinaria dinamicità e leggerezza. \nFulcro significante il Bambino\, deposto su un frammento di vecchia porta seicentesca\, ancora una volta scarto abbandonato e recuperato\, nella doppia valenza di culla e di passaggio verso il Cielo. \n(Carmela Perucchetti) \n  \n  \nFino al 12 gennaio 2020\, è possibile visitare l’esposizione tutti i giorni  nei seguenti orari: \n9/12 – 14/18 \n  \n
URL:https://www.materdivinaegratiae.it/evento/adeste-fideles/
LOCATION:Centro Mater Divinae Gratiae\, Via Sant'Emiliano 30\, Brescia\, BS\, 25127\, Italia
CATEGORIES:Arte
ATTACH;FMTTYPE=image/jpeg:https://www.materdivinaegratiae.it/wp-content/uploads/2019/09/mostra-sanzeni.jpg
END:VEVENT
END:VCALENDAR